BEGIN:VCALENDAR
VERSION:2.0
PRODID:-//Cambra de Comerç de Terrassa - ECPv6.15.17//NONSGML v1.0//EN
CALSCALE:GREGORIAN
METHOD:PUBLISH
X-ORIGINAL-URL:https://cambraterrassa.org/es/
X-WR-CALDESC:Eventos para Cambra de Comerç de Terrassa
REFRESH-INTERVAL;VALUE=DURATION:PT1H
X-Robots-Tag:noindex
X-PUBLISHED-TTL:PT1H
BEGIN:VTIMEZONE
TZID:Europe/Madrid
BEGIN:DAYLIGHT
TZOFFSETFROM:+0100
TZOFFSETTO:+0200
TZNAME:CEST
DTSTART:20250330T010000
END:DAYLIGHT
BEGIN:STANDARD
TZOFFSETFROM:+0200
TZOFFSETTO:+0100
TZNAME:CET
DTSTART:20251026T010000
END:STANDARD
BEGIN:DAYLIGHT
TZOFFSETFROM:+0100
TZOFFSETTO:+0200
TZNAME:CEST
DTSTART:20260329T010000
END:DAYLIGHT
BEGIN:STANDARD
TZOFFSETFROM:+0200
TZOFFSETTO:+0100
TZNAME:CET
DTSTART:20261025T010000
END:STANDARD
BEGIN:DAYLIGHT
TZOFFSETFROM:+0100
TZOFFSETTO:+0200
TZNAME:CEST
DTSTART:20270328T010000
END:DAYLIGHT
BEGIN:STANDARD
TZOFFSETFROM:+0200
TZOFFSETTO:+0100
TZNAME:CET
DTSTART:20271031T010000
END:STANDARD
END:VTIMEZONE
BEGIN:VEVENT
DTSTART;TZID=Europe/Madrid:20260507T090000
DTEND;TZID=Europe/Madrid:20260507T140000
DTSTAMP:20260424T215808
CREATED:20240702T141547Z
LAST-MODIFIED:20260325T101335Z
UID:10000109-1778144400-1778162400@cambraterrassa.org
SUMMARY:Las “muestras”\, ¿cómo las hemos de enviar? ¿Qué identifica la aduana?
DESCRIPTION:30 d’abril								\n				\n				\n		\n				\n				\n							\n			\n						\n		\n						\n				\n				\n				\n									de 9:30 a 12:00 h.								\n				\n				\n				\n									Obertura de portes i benvinguda a partir de les 9:00 h. 								\n				\n				\n		\n				\n				\n							\n			\n						\n		\n						\n				\n				\n				\n									Cambra Comerç Terrassa								\n				\n				\n				\n				\n				\n							\n			\n		\n						\n				\n				\n				\n									\n					\n						\n									INSCRIU-T'HI\n					\n					\n				\n								\n				\n				\n				\n							\n			\n						\n		\n						\n				\n				\n				\n									I si la teva empresa pogués rendir un 30% més amb el mateix equip? 								\n				\n				\n				\n									Cada dia es perden hores en tasques que no aporten valor\, en processos que podrien ser més àgils i en decisions que podrien prendre’s amb millor informació. La intel·ligència artificial no ve a substituir equips. Ve a potenciar-los. A eliminar friccions. A accelerar el que funciona. A transformar productivitat en avantatge competitiu. Vine a descobrir com aplicar la IA de manera pràctica i real al teu dia a dia empresarial: automatització intel·ligent\, optimització de processos\, suport a la presa de decisions i millora del rendiment en àrees clau com direcció\, operacions\, màrqueting\, finances o recursos humans. Sense tecnicismes innecessaris. Sense promeses buides. Amb criteri empresarial i exemples concrets. Si vols que la teva organització treballi amb més focus\, més velocitat i més impacte\, aquest és el moment. 								\n				\n		\n		\n				\n				\n							\n			\n		\n						\n				\n				\n				\n									OBJECTIU 								\n				\n				\n				\n							\n			\n						\n		\n						\n				\n				\n				\n									L’objectiu és oferir a les empreses una visió clara\, estructurada i aplicable de la intel·ligència artificial\, allunyada del soroll i de les tendències superficials. Es tracta d’entendre com la IA pot aportar valor real al negoci\, no només des d’un punt de vista tecnològic\, sinó també estratègic i operatiu. La sessió vol facilitar que les empreses avancin cap a una adopció efectiva de la IA en el seu dia a dia\, identificant usos concrets\, àrees d’impacte i oportunitats reals d’implementació. Al mateix temps\, es posarà èmfasi en la necessitat d’abordar aquesta transformació amb criteri\, tenint en compte les implicacions legals\, ètiques i comercials que comporta. En definitiva\, es busca generar una base sòlida de coneixement que permeti a les organitzacions prendre decisions informades i avançar amb seguretat en un entorn cada vegada més condicionat per la intel·ligència artificial. 								\n				\n				\n		\n				\n				\n							\n			\n		\n						\n				\n				\n				\n									PÚBLIC 								\n				\n				\n				\n							\n			\n						\n		\n						\n				\n				\n				\n									Adreçada a empreses i professionals de diferents àrees —direcció\, operacions\, màrqueting\, finances o recursos humans— que necessiten un marc per a l’adaptació imprescindible de la IA en els sues processos de negoci. Pensada\, principalment per les organitzacions que volen entendre com integrar aquesta tecnologia amb sentit\, tant si ja han iniciat algun tipus d’implementació com si es troben en una fase inicial d’exploració. En ambdós casos\, l’objectiu és aportar un marc que ajudi a ordenar\, prioritzar i donar coherència a les decisions que s’han de prendre. Així mateix\, la sessió també interpel·la aquelles empreses que encara no han fet el pas\, però que són conscients que la no adopció de la IA pot suposar una pèrdua de competitivitat a curt i mitjà termini. És\, per tant\, un espai pensat tant per consolidar com per activar. 								\n				\n				\n				\n				\n				\n									La jornada ofereix una visió pràctica de com la intel·ligència artificial pot aplicar-se al dia a dia de les empreses per millorar l’eficiència i la presa de decisions\, en el marc d’una complexitat legislativa que com a cambres hem d’ajudar a clarificar. A través de casos reals i exemples concrets\, es mostraran eines i usos accessibles per a diferents àrees de l’organització. 								\n				\n				\n				\n									La diferència no la marca qui coneix la IA\, la marca qui l’aplica amb criteri. 								\n				\n				\n				\n							\n			\n		\n						\n				\n				\n				\n									PROGRAMA 								\n				\n				\n				\n									09:00 h.  Acreditació dels assistents i cafè de benvinguda 09:30 h.  Benvinguda institucional RAMON TALAMÀS\, president de la Cambra de Comerç de Terrassa09:40 h.  Conferència: «El repte no és la IA. El repte som nosaltres.» MONTSE GUARDIA\, Directora de Persones i Cultura d’IDEADED | Presidenta del Patronat de la UPC | Cofundadora de Big Onion | Cofundadora de la Fundació ELLIS Alacant | Cofundadora de COVIDWarriors | Exdirectora d’Estratègia de Mobile World CapitalEl veritable repte de la IA no és tecnològic\, sinó humà. Parlem de talent\, cultura i lideratge en un context de transformació accelerada. Aquesta ponència dirigeix el focus allà on sovint no es mira: en les persones que han d’impulsar\, entendre i integrar la intel·ligència artificial dins les organitzacions. Perquè no es tracta només d’adoptar tecnologia\, sinó de saber liderar el canvi que aquesta comporta. 10:30 h.  El gran repte de l’adopció de la IA en l’empresa: les persones. L’experiència d’Eulep ANNA PAJARÓN\, responsable de Projectes Internacionals de la Cambra de Comerç de Terrassa10:45 h.  Com el Digital Impulse Hub ajuda a les empreses a adoptar la IA JULIA PUERTA\, gestora de projectes de Transformació Digital i DigitalImpulse Hub de la Cambra de Comerç de Terrassa11:00 h.  Conferència magistral: “Quo vadis AI” KARINA GIBERT\, catedràtica i cofundadora del centre de recerca Intelligent Data Science and Artificial Intelligence (UPC). Degana del Col·legi Oficial d’Enginyeria Informàtica de CatalunyaLa intel·ligència artificial protagonitza una de les transformacions més disruptives de les últimes centúries i està practicant una transformació tan profunda de la societat i de l’ordre socioeconòmic que l’ONU ha declarat que estem en un canvi d’era. En aquesta xerrada revisarem quines són les virtuts d’aquesta tecnologia que han de permetre la transformació de progrés\, quins són els reptes que l’acompanya en aquest procés de transformació i què podem fer per garantir una transformació positiva que generi beneficis a la societat i al teixit industrial i empresarial a casa nostra. 11:45 h.  Cloenda de l’acte JOSEP PRATS\, director gerent de la Cambra de Comerç de TerrassaActe presentat i conduït per: MARIOLA DINARÈS\, periodista i divulgadora digital								\n				\n				\n				\n				\n							\n			\n		\n						\n				\n				\n				\n									INSCRIU-T’HI 								\n				\n					\n				\n		\n					\n				\n				\n							\n			\n			\n			\n\n							\n			\n			\n								\n													\n											\n								\n													\n											\n								\n													\n											\n								\n													\n											\n								\n													\n											\n								\n													\n											\n								\n												\n								Per on has conegut el Digital Summit 2026?							\n						 E-mail LinkedIn Instagram X -Twitter- Publicitat al carrer Google Premsa Altres				\n								\n												\n								Si has seleccionat "Altres"\, especifica quin:							\n														\n											\n								\n							\n			\n				\n				He llegit i accepto la política de privacitat (*)			\n		\n						\n								\n					Autoritzo a la Cambra de Comerç de Terrassa a enviar-me informació relacionada amb novetats i activitats d’interès general per a les empreses.*				\n								\n					 Si  No				\n								\n					\n						\n																						Enviar\n													\n					\n				\n			\n		\n						\n				\n				\n				\n							\n			\n		\n						\n				\n				\n				\n									Organitza
URL:https://cambraterrassa.org/es/agenda/las-muestras-como-las-hemos-de-enviar-que-identifica-la-aduana/
LOCATION:Cambra\, C/ Blasco de Garay\, 29-49 Terrassa\, Barcelona 08224
CATEGORIES:Formació Empresarial,Internacional
ORGANIZER;CN="Cambra de Comer%C3%A7 de Terrassa":MAILTO:info@cambraterrassa.org
END:VEVENT
END:VCALENDAR