BEGIN:VCALENDAR
VERSION:2.0
PRODID:-//Cambra de Comerç de Terrassa - ECPv6.15.17//NONSGML v1.0//EN
CALSCALE:GREGORIAN
METHOD:PUBLISH
X-ORIGINAL-URL:https://cambraterrassa.org
X-WR-CALDESC:Esdeveniments per Cambra de Comerç de Terrassa
REFRESH-INTERVAL;VALUE=DURATION:PT1H
X-Robots-Tag:noindex
X-PUBLISHED-TTL:PT1H
BEGIN:VTIMEZONE
TZID:Europe/Madrid
BEGIN:DAYLIGHT
TZOFFSETFROM:+0100
TZOFFSETTO:+0200
TZNAME:CEST
DTSTART:20250330T010000
END:DAYLIGHT
BEGIN:STANDARD
TZOFFSETFROM:+0200
TZOFFSETTO:+0100
TZNAME:CET
DTSTART:20251026T010000
END:STANDARD
BEGIN:DAYLIGHT
TZOFFSETFROM:+0100
TZOFFSETTO:+0200
TZNAME:CEST
DTSTART:20260329T010000
END:DAYLIGHT
BEGIN:STANDARD
TZOFFSETFROM:+0200
TZOFFSETTO:+0100
TZNAME:CET
DTSTART:20261025T010000
END:STANDARD
BEGIN:DAYLIGHT
TZOFFSETFROM:+0100
TZOFFSETTO:+0200
TZNAME:CEST
DTSTART:20270328T010000
END:DAYLIGHT
BEGIN:STANDARD
TZOFFSETFROM:+0200
TZOFFSETTO:+0100
TZNAME:CET
DTSTART:20271031T010000
END:STANDARD
END:VTIMEZONE
BEGIN:VEVENT
DTSTART;VALUE=DATE:20260430
DTEND;VALUE=DATE:20260501
DTSTAMP:20260424T184711
CREATED:20240702T144521Z
LAST-MODIFIED:20260401T110635Z
UID:10000016-1777507200-1777593599@cambraterrassa.org
SUMMARY:Missió comercial a Estònia\, Letònia i Lituània
DESCRIPTION:Presenta la teva candidatura als Premis Cambra 2026 								\n				\n				\n				\n									Data límit per presentar candidatura: 4 de maig 								\n				\n				\n				\n							\n			\n		\n						\n				\n				\n				\n									Els Premis Cambra 2026 ja són aquí: una oportunitat única per donar visibilitat a la teva empresa o projecte emprenedor i posicionar-te com a referent en el teu sector. Si estàs contribuint a transformar el teixit empresarial\, aquest és el teu moment. Aquesta nova edició reconeixerà l’excel·lència\, la innovació i el compromís del teixit empresarial\, consolidant-se com un referent en la promoció del talent i el dinamisme econòmic del territori. 								\n				\n				\n				\n									Ja podeu presentar la vostra candidatura als Premis Cambra. Per fer-ho\, només cal que seleccioneu la categoria que millor s’ajusti al vostre projecte i completeu tots els camps del formulari amb la informació requerida. Us recomanem revisar atentament les dades abans d’enviar la candidatura per assegurar-ne la correcta valoració.								\n				\n				\n				\n							\n			\n		\n						\n				\n				\n				\n									Tot el que necessites saber abans de presentar la teva candidatura 								\n				\n				\n				\n							\n			\n						\n		\n						\n				\n				\n				\n									A quines categories et pots presentar? 								\n				\n				\n				\n																														\n				\n				\n				\n							\n			\n		\n						\n				\n				\n				\n							\n			\n						\n		\n						\n				\n				\n				\n									Per què presentar-se? 								\n				\n				\n				\n									Reconeixement institucional i empresarialVisibilitat davant d’empresaris i directiusNotorietat i projecció mediàticaPosicionament com a empresa referentOportunitats de networking i creixement								\n				\n				\n				\n							\n			\n		\n						\n				\n				\n				\n									Presentar la teva candidatura és fàcil.Descobreix com fer-ho pas a pas💡 								\n				\n		\n		\n				\n				\n									PRIMER 								\n				\n				\n				\n									Consulta les bases de participació i accedeix al formulari online. 								\n				\n				\n		\n				\n				\n									DESPRÉS 								\n				\n				\n				\n									Selecciona la categoria adequada\, respon a les qüestions plantejades i explica el teu projecte de manera clara i concisa. 								\n				\n				\n		\n				\n				\n									FINALMENT 								\n				\n				\n				\n									Envia el formulari. 								\n				\n				\n				\n				\n				\n							\n			\n		\n						\n				\n				\n				\n									Presenta la teva candidatura als Premis Cambra i dona visibilitat al teu projecte\, compartint el teu èxit amb el teixit empresarial del territori. 								\n				\n				\n				\n									Qualsevol dubte contacta amb internacional@cambraterrassa.org 								\n				\n		\n		\n				\n				\n									\n					\n						\n									Presenta la teva candidatura\n					\n					\n				\n								\n				\n				\n		\n				\n				\n									\n					\n						\n									Consulta les bases
URL:https://cambraterrassa.org/agenda/missio-comercial-a-estonia-letonia-i-lituania/
LOCATION:Barcelona
CATEGORIES:Internacional,Missions comercials
END:VEVENT
BEGIN:VEVENT
DTSTART;TZID=Europe/Madrid:20260430T000000
DTEND;TZID=Europe/Madrid:20260430T235900
DTSTAMP:20260424T184712
CREATED:20240702T144336Z
LAST-MODIFIED:20260401T110817Z
UID:10000015-1777507200-1777593540@cambraterrassa.org
SUMMARY:Missió comercial virtual a Austràlia i Nova Zelanda
DESCRIPTION:Presenta la teva candidatura als Premis Cambra 2026 								\n				\n				\n				\n									Data límit per presentar candidatura: 4 de maig 								\n				\n				\n				\n							\n			\n		\n						\n				\n				\n				\n									Els Premis Cambra 2026 ja són aquí: una oportunitat única per donar visibilitat a la teva empresa o projecte emprenedor i posicionar-te com a referent en el teu sector. Si estàs contribuint a transformar el teixit empresarial\, aquest és el teu moment. Aquesta nova edició reconeixerà l’excel·lència\, la innovació i el compromís del teixit empresarial\, consolidant-se com un referent en la promoció del talent i el dinamisme econòmic del territori. 								\n				\n				\n				\n									Ja podeu presentar la vostra candidatura als Premis Cambra. Per fer-ho\, només cal que seleccioneu la categoria que millor s’ajusti al vostre projecte i completeu tots els camps del formulari amb la informació requerida. Us recomanem revisar atentament les dades abans d’enviar la candidatura per assegurar-ne la correcta valoració.								\n				\n				\n				\n							\n			\n		\n						\n				\n				\n				\n									Tot el que necessites saber abans de presentar la teva candidatura 								\n				\n				\n				\n							\n			\n						\n		\n						\n				\n				\n				\n									A quines categories et pots presentar? 								\n				\n				\n				\n																														\n				\n				\n				\n							\n			\n		\n						\n				\n				\n				\n							\n			\n						\n		\n						\n				\n				\n				\n									Per què presentar-se? 								\n				\n				\n				\n									Reconeixement institucional i empresarialVisibilitat davant d’empresaris i directiusNotorietat i projecció mediàticaPosicionament com a empresa referentOportunitats de networking i creixement								\n				\n				\n				\n							\n			\n		\n						\n				\n				\n				\n									Presentar la teva candidatura és fàcil.Descobreix com fer-ho pas a pas💡 								\n				\n		\n		\n				\n				\n									PRIMER 								\n				\n				\n				\n									Consulta les bases de participació i accedeix al formulari online. 								\n				\n				\n		\n				\n				\n									DESPRÉS 								\n				\n				\n				\n									Selecciona la categoria adequada\, respon a les qüestions plantejades i explica el teu projecte de manera clara i concisa. 								\n				\n				\n		\n				\n				\n									FINALMENT 								\n				\n				\n				\n									Envia el formulari. 								\n				\n				\n				\n				\n				\n							\n			\n		\n						\n				\n				\n				\n									Presenta la teva candidatura als Premis Cambra i dona visibilitat al teu projecte\, compartint el teu èxit amb el teixit empresarial del territori. 								\n				\n				\n				\n									Qualsevol dubte contacta amb internacional@cambraterrassa.org 								\n				\n		\n		\n				\n				\n									\n					\n						\n									Presenta la teva candidatura\n					\n					\n				\n								\n				\n				\n		\n				\n				\n									\n					\n						\n									Consulta les bases
URL:https://cambraterrassa.org/agenda/missio-comercial-australia-i-nova-zelanda/
LOCATION:Barcelona
CATEGORIES:Internacional,Missions comercials
END:VEVENT
BEGIN:VEVENT
DTSTART;TZID=Europe/Madrid:20260430T093000
DTEND;TZID=Europe/Madrid:20260430T120000
DTSTAMP:20260424T184712
CREATED:20260226T083938Z
LAST-MODIFIED:20260424T071312Z
UID:10000175-1777541400-1777550400@cambraterrassa.org
SUMMARY:DIGITAL SUMMIT 2026
DESCRIPTION:Presenta la teva candidatura als Premis Cambra 2026 								\n				\n				\n				\n									Data límit per presentar candidatura: 4 de maig 								\n				\n				\n				\n							\n			\n		\n						\n				\n				\n				\n									Els Premis Cambra 2026 ja són aquí: una oportunitat única per donar visibilitat a la teva empresa o projecte emprenedor i posicionar-te com a referent en el teu sector. Si estàs contribuint a transformar el teixit empresarial\, aquest és el teu moment. Aquesta nova edició reconeixerà l’excel·lència\, la innovació i el compromís del teixit empresarial\, consolidant-se com un referent en la promoció del talent i el dinamisme econòmic del territori. 								\n				\n				\n				\n									Ja podeu presentar la vostra candidatura als Premis Cambra. Per fer-ho\, només cal que seleccioneu la categoria que millor s’ajusti al vostre projecte i completeu tots els camps del formulari amb la informació requerida. Us recomanem revisar atentament les dades abans d’enviar la candidatura per assegurar-ne la correcta valoració.								\n				\n				\n				\n							\n			\n		\n						\n				\n				\n				\n									Tot el que necessites saber abans de presentar la teva candidatura 								\n				\n				\n				\n							\n			\n						\n		\n						\n				\n				\n				\n									A quines categories et pots presentar? 								\n				\n				\n				\n																														\n				\n				\n				\n							\n			\n		\n						\n				\n				\n				\n							\n			\n						\n		\n						\n				\n				\n				\n									Per què presentar-se? 								\n				\n				\n				\n									Reconeixement institucional i empresarialVisibilitat davant d’empresaris i directiusNotorietat i projecció mediàticaPosicionament com a empresa referentOportunitats de networking i creixement								\n				\n				\n				\n							\n			\n		\n						\n				\n				\n				\n									Presentar la teva candidatura és fàcil.Descobreix com fer-ho pas a pas💡 								\n				\n		\n		\n				\n				\n									PRIMER 								\n				\n				\n				\n									Consulta les bases de participació i accedeix al formulari online. 								\n				\n				\n		\n				\n				\n									DESPRÉS 								\n				\n				\n				\n									Selecciona la categoria adequada\, respon a les qüestions plantejades i explica el teu projecte de manera clara i concisa. 								\n				\n				\n		\n				\n				\n									FINALMENT 								\n				\n				\n				\n									Envia el formulari. 								\n				\n				\n				\n				\n				\n							\n			\n		\n						\n				\n				\n				\n									Presenta la teva candidatura als Premis Cambra i dona visibilitat al teu projecte\, compartint el teu èxit amb el teixit empresarial del territori. 								\n				\n				\n				\n									Qualsevol dubte contacta amb internacional@cambraterrassa.org 								\n				\n		\n		\n				\n				\n									\n					\n						\n									Presenta la teva candidatura\n					\n					\n				\n								\n				\n				\n		\n				\n				\n									\n					\n						\n									Consulta les bases
URL:https://cambraterrassa.org/agenda/digital-summit-2026/
LOCATION:Cambra\, C/ Blasco de Garay\, 29-49 Terrassa\, Barcelona 08224
CATEGORIES:Digitalització,Jornada,Networking
ORGANIZER;CN="Cambra de Comer%C3%A7 de Terrassa":MAILTO:info@cambraterrassa.org
END:VEVENT
END:VCALENDAR